BEGIN:VCALENDAR
VERSION:2.0
PRODID:-//Deutsche Gesellschaft für Ur- und Frühgeschichte//NONSGML kigkons
 ult.se iCalcreator 2.30.10//
CALSCALE:GREGORIAN
METHOD:PUBLISH
UID:08453693-a950-4e54-95d8-f27ff16c47e0
X-WR-CALNAME:iCagenda
X-WR-CALDESC:Event Management Extension for Joomla!
X-WR-RELCALID:3E26604A-50F4-4449-8B3E-E4F4932D05B5
X-WR-TIMEZONE:Europe/Berlin
BEGIN:VTIMEZONE
TZID:Europe/Berlin
BEGIN:STANDARD
TZNAME:CET
DTSTART:20231029T030000
TZOFFSETFROM:+0200
TZOFFSETTO:+0100
RDATE:20241027T030000
RDATE:20251026T030000
END:STANDARD
BEGIN:DAYLIGHT
TZNAME:CEST
DTSTART:20240331T020000
TZOFFSETFROM:+0100
TZOFFSETTO:+0200
RDATE:20250330T020000
END:DAYLIGHT
END:VTIMEZONE
BEGIN:VEVENT
UID:945484b8-8e39-47e8-b473-eb1c39b2c42b
DTSTAMP:20260425T105421Z
CATEGORIES:DGUF Online-Veranstaltung
CLASS:PUBLIC
DESCRIPTION;ALTREP="CID:<FFFF__=0ABBE548DFE235B58f9e8a93d@coffeebean.com>":
 Programm des Abends\n- Dr. Christin Keller (Geschäftsführerin NFDI4Objects
 ): Vorstellung NFDI4Objects\, Skizze möglicher Kooperationsfelder mit der 
 Privatwirtschaft.\n- Dr. David Biedermann (ProArch): Die Praxis der Dokume
 ntationsübergabe Privatwirtschaft -&gt\; Landesamt.\n- Stephan Winkler M.A
 . (ABW) &amp\; Anna Anzenberger M.Sc. (Anzenberger &amp\; Leicht): 'Sapiko
 n' - Eine Grabungsdokumentation\, viele Ausspielwege.\n- Benjamin Keil M.S
 c. &amp\; Hilko Waltke-Poppen M.Sc. (denkmal3D): Projekt 'DigSmart' - über
  eine laufende Entwicklung auf dem Feld der GIS-Dokumentation.\nAussprache
  und Diskussion unter allen Teilnehmer:innen.\n( Begrüßung und Moderation:
  Diane Scherzler M.A. &amp\; PD Dr. Frank Siegmund\, DGUF )
DTSTART:20240625T170000Z
DTEND:20240625T193000Z
GEO:00;0
LOCATION:
ORGANIZER:
SEQUENCE:1
SUMMARY:Austausch NFDI4Objects und privatwirtschaftliche Archäologie
TRANSP:OPAQUE
URL:https://www.dguf.de/tagungen-events/events/44-austausch-nfdi4objects-un
 d-privatwirtschaftliche-archaeologie
END:VEVENT
END:VCALENDAR
