BEGIN:VCALENDAR
VERSION:2.0
PRODID:-//Deutsche Gesellschaft für Ur- und Frühgeschichte//NONSGML kigkons
 ult.se iCalcreator 2.30.10//
CALSCALE:GREGORIAN
METHOD:PUBLISH
UID:4d56cb4e-c6fb-4f0f-ba95-85f825831c5c
X-WR-CALNAME:iCagenda
X-WR-CALDESC:Event Management Extension for Joomla!
X-WR-RELCALID:3E26604A-50F4-4449-8B3E-E4F4932D05B5
X-WR-TIMEZONE:Europe/Berlin
BEGIN:VTIMEZONE
TZID:Europe/Berlin
BEGIN:STANDARD
TZNAME:CET
DTSTART:20211031T030000
TZOFFSETFROM:+0200
TZOFFSETTO:+0100
RDATE:20221030T030000
RDATE:20231029T030000
END:STANDARD
BEGIN:DAYLIGHT
TZNAME:CEST
DTSTART:20220327T020000
TZOFFSETFROM:+0100
TZOFFSETTO:+0200
RDATE:20230326T020000
END:DAYLIGHT
END:VTIMEZONE
BEGIN:VEVENT
UID:db1dd476-ff31-403c-8cd0-2d839ede5f65
DTSTAMP:20260424T132621Z
CATEGORIES:Tagungen
CLASS:PUBLIC
DESCRIPTION;ALTREP="CID:<FFFF__=0ABBE548DFE235B58f9e8a93d@coffeebean.com>":
 'FAIRe Daten und digitale Infrastrukturen für die Archäologie. Handlungsrä
 ume gemeinsam gestalten\, Potenziale identifizieren.' - Gemeinsame Tagung 
 von DGUF &amp\; NFDI4Objects\, 16.6.2022\, Frankfurt /M. (IG-Farben-Haus).
 \nWeitere Informationen auf der Tagungswebsite der DGUF\, dort.
DTSTART:20220615T220000Z
DTEND:20220615T220000Z
GEO:00;0
LOCATION:Frankfurt a.M.
ORGANIZER;CN=:anmeldung@dguf.de
SEQUENCE:1
SUMMARY:FAIRe Daten und digitale Infrastrukturen für die Archäologie
TRANSP:OPAQUE
URL:https://www.dguf.de/component/icagenda/9-faire-daten-und-digitale-infra
 strukturen-fuer-die-archaeologie/2022-06-16-00-00
END:VEVENT
END:VCALENDAR
