BEGIN:VCALENDAR
VERSION:2.0
PRODID:-//Deutsche Gesellschaft für Ur- und Frühgeschichte//NONSGML kigkons
 ult.se iCalcreator 2.30.10//
CALSCALE:GREGORIAN
METHOD:PUBLISH
UID:769550ca-a961-442a-b569-b1a53ba76ffb
X-WR-CALNAME:iCagenda
X-WR-CALDESC:Event Management Extension for Joomla!
X-WR-RELCALID:3E26604A-50F4-4449-8B3E-E4F4932D05B5
X-WR-TIMEZONE:Europe/Berlin
BEGIN:VTIMEZONE
TZID:Europe/Berlin
BEGIN:STANDARD
TZNAME:CET
DTSTART:20211031T030000
TZOFFSETFROM:+0200
TZOFFSETTO:+0100
RDATE:20221030T030000
END:STANDARD
BEGIN:DAYLIGHT
TZNAME:CEST
DTSTART:20220327T020000
TZOFFSETFROM:+0100
TZOFFSETTO:+0200
RDATE:20230326T020000
END:DAYLIGHT
END:VTIMEZONE
BEGIN:VEVENT
UID:5de27221-53b7-4f48-802f-9ca82c70a1f1
DTSTAMP:20260424T162622Z
CATEGORIES:DGUF-CIfA-Vorträge
CLASS:PUBLIC
DESCRIPTION;ALTREP="CID:<FFFF__=0ABBE548DFE235B58f9e8a93d@coffeebean.com>":
 Der Vortrag erklärt die Tarifgruppen im öffentlichen Dienst\, die in viele
 n Stellenausschreibungen genannt werden. Was verdient man dann\, wo kann m
 an dies nachlesen\, und was bedeuten die Erfahrungsstufen? Wann sind Eingr
 uppierungen unfair / unangemessen? Ziel des Vortrags ist es\, Unerfahrenen
  das Lesen und Verstehen der Stellenanzeigen zu erleichtern.\nVortragende
 \n\nPD Dr. Frank Siegmund MCIfA\nMichaela Schauer MA ACIfA\n
DTSTART:20220412T161500Z
DTEND:20220412T174500Z
GEO:00;0
LOCATION:Online (Zoom)
ORGANIZER;CN=:anmeldung@dguf.de
SEQUENCE:1
SUMMARY:Lohn & Gehalt im öff. Dienst: ein Kurzführer durch die Tarifgruppen
TRANSP:OPAQUE
URL:https://www.dguf.de/component/icagenda/8-lohn-gehalt-im-oeff-dienst-ein
 -kurzfuehrer-durch-die-tarifgruppen
END:VEVENT
END:VCALENDAR
