BEGIN:VCALENDAR
VERSION:2.0
PRODID:-//Deutsche Gesellschaft für Ur- und Frühgeschichte//NONSGML kigkons
 ult.se iCalcreator 2.30.10//
CALSCALE:GREGORIAN
METHOD:PUBLISH
UID:582c7c05-e2cb-4eec-96b4-8ddc434e3233
X-WR-CALNAME:iCagenda
X-WR-CALDESC:Event Management Extension for Joomla!
X-WR-RELCALID:3E26604A-50F4-4449-8B3E-E4F4932D05B5
X-WR-TIMEZONE:Europe/Berlin
BEGIN:VTIMEZONE
TZID:Europe/Berlin
BEGIN:STANDARD
TZNAME:CET
DTSTART:20241027T030000
TZOFFSETFROM:+0200
TZOFFSETTO:+0100
RDATE:20251026T030000
END:STANDARD
BEGIN:DAYLIGHT
TZNAME:CEST
DTSTART:20240331T020000
TZOFFSETFROM:+0100
TZOFFSETTO:+0200
RDATE:20250330T020000
RDATE:20260329T020000
END:DAYLIGHT
END:VTIMEZONE
BEGIN:VEVENT
UID:e804a002-b6c3-41ff-8b6c-f786460047e7
DTSTAMP:20260425T212805Z
CATEGORIES:DGUF Online-Veranstaltung
CLASS:PUBLIC
DESCRIPTION;ALTREP="CID:<FFFF__=0ABBE548DFE235B58f9e8a93d@coffeebean.com>":
 'Das archäologische Jahr' bündelt Vorträge zu aktuellen Entdeckungen\, Aus
 grabungen und Forschungen der Archäologie in Deutschland. Die Veranstaltun
 g richtet sich an Fachleute und interessierte Bürger:innen. Nähere Informa
 tionen und Programm finden Sie dort.
DTSTART:20250222T080000Z
DTEND:20250222T120000Z
GEO:00;0
LOCATION:
ORGANIZER:
SEQUENCE:1
SUMMARY:Das archäologische Jahr 2024
TRANSP:OPAQUE
URL:https://www.dguf.de/component/icagenda/46-das-archaeologische-jahr-2024
END:VEVENT
END:VCALENDAR
