BEGIN:VCALENDAR
VERSION:2.0
PRODID:-//Deutsche Gesellschaft für Ur- und Frühgeschichte//NONSGML kigkons
 ult.se iCalcreator 2.30.10//
CALSCALE:GREGORIAN
METHOD:PUBLISH
UID:0062aa62-e304-4a8f-a647-ef358cdf811f
X-WR-CALNAME:iCagenda
X-WR-CALDESC:Event Management Extension for Joomla!
X-WR-RELCALID:3E26604A-50F4-4449-8B3E-E4F4932D05B5
X-WR-TIMEZONE:Europe/Berlin
BEGIN:VTIMEZONE
TZID:Europe/Berlin
BEGIN:STANDARD
TZNAME:CET
DTSTART:20231029T030000
TZOFFSETFROM:+0200
TZOFFSETTO:+0100
RDATE:20241027T030000
RDATE:20251026T030000
END:STANDARD
BEGIN:DAYLIGHT
TZNAME:CEST
DTSTART:20240331T020000
TZOFFSETFROM:+0100
TZOFFSETTO:+0200
RDATE:20250330T020000
RDATE:20260329T020000
END:DAYLIGHT
END:VTIMEZONE
BEGIN:VEVENT
UID:a5c6a775-94d0-4625-b031-47aa53c80496
DTSTAMP:20260424T162834Z
CATEGORIES:Tagungen
CLASS:PUBLIC
DESCRIPTION;ALTREP="CID:<FFFF__=0ABBE548DFE235B58f9e8a93d@coffeebean.com>":
 Von der DGUF mitorganisierte Session innerhalb der Verbandstagung 2024. We
 itere Informationen dort und dort. Bitte hier keine Teilnahmebuchung eintr
 agen\, sondern über die Tagungswebsite https://va-bochum-2024.de/\n 
DTSTART:20241009T070000Z
DTEND:20241009T160000Z
GEO:00;0
LOCATION:
ORGANIZER:
SEQUENCE:1
SUMMARY:Von der digital gestützten Ausgrabung zu digitalen Diensten in der 
 Archäologie
TRANSP:OPAQUE
URL:https://www.dguf.de/component/icagenda/45-von-der-digital-gestuetzten-a
 usgrabung-zu-digitalen-diensten-in-der-archaeologie
END:VEVENT
END:VCALENDAR
