BEGIN:VCALENDAR
VERSION:2.0
PRODID:-//Deutsche Gesellschaft für Ur- und Frühgeschichte//NONSGML kigkons
 ult.se iCalcreator 2.30.10//
CALSCALE:GREGORIAN
METHOD:PUBLISH
UID:6b5c535c-1269-4895-bae8-823e0ae954d0
X-WR-CALNAME:iCagenda
X-WR-CALDESC:Event Management Extension for Joomla!
X-WR-RELCALID:3E26604A-50F4-4449-8B3E-E4F4932D05B5
X-WR-TIMEZONE:Europe/Berlin
BEGIN:VTIMEZONE
TZID:Europe/Berlin
BEGIN:STANDARD
TZNAME:CET
DTSTART:20231029T030000
TZOFFSETFROM:+0200
TZOFFSETTO:+0100
RDATE:20241027T030000
RDATE:20251026T030000
END:STANDARD
BEGIN:DAYLIGHT
TZNAME:CEST
DTSTART:20240331T020000
TZOFFSETFROM:+0100
TZOFFSETTO:+0200
RDATE:20250330T020000
END:DAYLIGHT
END:VTIMEZONE
BEGIN:VEVENT
UID:a52daa28-79d2-4f95-884e-413f402f7263
DTSTAMP:20260425T212806Z
CATEGORIES:Tagungen
CLASS:PUBLIC
DESCRIPTION;ALTREP="CID:<FFFF__=0ABBE548DFE235B58f9e8a93d@coffeebean.com>":
 Die Tagung findet ebenfalls im Archäologischen Museum der Stadt Frankfurt 
 statt. Näheres auf der Wbesite von CIfA Deutschland\, dort: https://cifa-d
 eutschland.de/veranstaltungen/tagungen
DTSTART:20240511T070000Z
DTEND:20240511T150000Z
GEO:00;0
LOCATION:
ORGANIZER:
SEQUENCE:1
SUMMARY:Jahrestagung CIfA Deutschland 2024
TRANSP:OPAQUE
URL:https://www.dguf.de/component/icagenda/43-jahrestagung-cifa-deutschland
 -2024
END:VEVENT
END:VCALENDAR
