BEGIN:VCALENDAR
VERSION:2.0
PRODID:-//Deutsche Gesellschaft für Ur- und Frühgeschichte//NONSGML kigkons
 ult.se iCalcreator 2.30.10//
CALSCALE:GREGORIAN
METHOD:PUBLISH
UID:591cd0a2-dcb8-42fd-914f-72b74ef29797
X-WR-CALNAME:iCagenda
X-WR-CALDESC:Event Management Extension for Joomla!
X-WR-RELCALID:3E26604A-50F4-4449-8B3E-E4F4932D05B5
X-WR-TIMEZONE:Europe/Berlin
BEGIN:VTIMEZONE
TZID:Europe/Berlin
BEGIN:STANDARD
TZNAME:CET
DTSTART:20231029T030000
TZOFFSETFROM:+0200
TZOFFSETTO:+0100
RDATE:20241027T030000
RDATE:20251026T030000
END:STANDARD
BEGIN:DAYLIGHT
TZNAME:CEST
DTSTART:20240331T020000
TZOFFSETFROM:+0100
TZOFFSETTO:+0200
RDATE:20250330T020000
END:DAYLIGHT
END:VTIMEZONE
BEGIN:VEVENT
UID:9732deb4-054c-466f-8e41-6f5ff1497443
DTSTAMP:20260425T212804Z
CATEGORIES:Tagungen
CLASS:PUBLIC
DESCRIPTION;ALTREP="CID:<FFFF__=0ABBE548DFE235B58f9e8a93d@coffeebean.com>":
 Willkommen!Die Tagung findet in Zusammenarbeit mit dem Archäologischen Mus
 eum der Stadt Frankfurt in dessen Räumlichkeiten statt. Tagungsanmeldungen
  sind ab sofort möglich. Vortragsvorschläge bis zum 2. April bitte an vors
 tand@dguf.de. Mehr Informationen auf der Tagungswebsite: https://dguf.de/t
 agungen-events/tagungen/aktuelle-tagung
DTSTART:20240510T070000Z
DTEND:20240510T160000Z
GEO:00;0
LOCATION:
ORGANIZER:
SEQUENCE:1
SUMMARY:DGUF Tagung 2024: Archäologische Fachethiken
TRANSP:OPAQUE
URL:https://www.dguf.de/component/icagenda/42-dguf-tagung-2024-archaeologis
 che-fachethiken
END:VEVENT
END:VCALENDAR
