BEGIN:VCALENDAR
VERSION:2.0
PRODID:-//Deutsche Gesellschaft für Ur- und Frühgeschichte//NONSGML kigkons
 ult.se iCalcreator 2.30.10//
CALSCALE:GREGORIAN
METHOD:PUBLISH
UID:88b3acf3-7ec1-4180-814c-a7e585ff2588
X-WR-CALNAME:iCagenda
X-WR-CALDESC:Event Management Extension for Joomla!
X-WR-RELCALID:3E26604A-50F4-4449-8B3E-E4F4932D05B5
X-WR-TIMEZONE:Europe/Berlin
BEGIN:VTIMEZONE
TZID:Europe/Berlin
BEGIN:STANDARD
TZNAME:CET
DTSTART:20231029T030000
TZOFFSETFROM:+0200
TZOFFSETTO:+0100
RDATE:20241027T030000
END:STANDARD
BEGIN:DAYLIGHT
TZNAME:CEST
DTSTART:20230326T020000
TZOFFSETFROM:+0100
TZOFFSETTO:+0200
RDATE:20240331T020000
RDATE:20250330T020000
END:DAYLIGHT
END:VTIMEZONE
BEGIN:VEVENT
UID:466bcaf4-18e5-4182-9252-5e60a8a1e2f3
DTSTAMP:20260424T202434Z
CATEGORIES:DGUF-CIfA-Vorträge
CLASS:PUBLIC
DESCRIPTION;ALTREP="CID:<FFFF__=0ABBE548DFE235B58f9e8a93d@coffeebean.com>":
 Vortragende: Diane Scherzler M.A. (Archäologin\, Journalistin\, beruflich 
 Gesundheitsmanagerin des SWR).\nDas Semester und seinen vielen Anforderung
 en... Die Abgabe des Projektberichts vom zurückliegenden Halbjahr steht ba
 ld an\; Ihre Prof. will kommende Woche über den Stand Ihrer Masterarbeit i
 nformiert werden. Aber Sie haben viel Wichtiges noch nicht geschafft\, ger
 aten zusehends in Panik\, verheddern sich in den Anforderungen. Diane Sche
 rzler\, Archäologin und Gesundheitsmanagerin beim SWR\, zeigt Ihnen\, wie 
 Sie Ihre Zeitplanung in den Griff bekommen\, wie Sie besser priorisieren u
 nd wie Sie durch gute Selbstorganisation vermeiden\, begonnene Aufgaben ab
 brechen zu müssen. Gerne beantwortet und diskutiert die Vortragende am End
 e konkrete Fragen.
DTSTART:20240206T171500Z
DTEND:20240206T181500Z
GEO:00;0
LOCATION:
ORGANIZER:
SEQUENCE:1
SUMMARY:Kluge Selbstorganisation und gutes Zeitmanagement
TRANSP:OPAQUE
URL:https://www.dguf.de/component/icagenda/35-kluge-selbstorganisation-und-
 gutes-zeitmanagement-3
END:VEVENT
END:VCALENDAR
