BEGIN:VCALENDAR
VERSION:2.0
PRODID:-//Deutsche Gesellschaft für Ur- und Frühgeschichte//NONSGML kigkons
 ult.se iCalcreator 2.30.10//
CALSCALE:GREGORIAN
METHOD:PUBLISH
UID:478b12ca-4d03-4d23-bfb8-e4f8c8b81a12
X-WR-CALNAME:iCagenda
X-WR-CALDESC:Event Management Extension for Joomla!
X-WR-RELCALID:3E26604A-50F4-4449-8B3E-E4F4932D05B5
X-WR-TIMEZONE:Europe/Berlin
BEGIN:VTIMEZONE
TZID:Europe/Berlin
BEGIN:STANDARD
TZNAME:CET
DTSTART:20231029T030000
TZOFFSETFROM:+0200
TZOFFSETTO:+0100
RDATE:20241027T030000
END:STANDARD
BEGIN:DAYLIGHT
TZNAME:CEST
DTSTART:20230326T020000
TZOFFSETFROM:+0100
TZOFFSETTO:+0200
RDATE:20240331T020000
RDATE:20250330T020000
END:DAYLIGHT
END:VTIMEZONE
BEGIN:VEVENT
UID:fe898210-f330-42d9-a83b-93e72051e8b8
DTSTAMP:20260424T190558Z
CATEGORIES:DGUF-CIfA-Vorträge
CLASS:PUBLIC
DESCRIPTION;ALTREP="CID:<FFFF__=0ABBE548DFE235B58f9e8a93d@coffeebean.com>":
 Vortragender: Sascha Piffko M.A. MCIfA (Inhaber Grabungsfirma SPAU)
DTSTART:20240116T171500Z
DTEND:20240116T181500Z
GEO:00;0
LOCATION:
ORGANIZER:
SEQUENCE:1
SUMMARY:Vom Archäologen zum Unternehmer: Chancen in der freien Wirtschaft f
 ür Chef:in und Angestellte
TRANSP:OPAQUE
URL:https://www.dguf.de/component/icagenda/34-vom-archaeologen-zum-unterneh
 mer-chancen-in-der-freien-wirtschaft-fuer-chef-in-und-angestellte
END:VEVENT
END:VCALENDAR
