BEGIN:VCALENDAR
VERSION:2.0
PRODID:-//Deutsche Gesellschaft für Ur- und Frühgeschichte//NONSGML kigkons
 ult.se iCalcreator 2.30.10//
CALSCALE:GREGORIAN
METHOD:PUBLISH
UID:9677b7d7-d14a-4db3-98b0-66b2753739bc
X-WR-CALNAME:iCagenda
X-WR-CALDESC:Event Management Extension for Joomla!
X-WR-RELCALID:3E26604A-50F4-4449-8B3E-E4F4932D05B5
X-WR-TIMEZONE:Europe/Berlin
BEGIN:VTIMEZONE
TZID:Europe/Berlin
BEGIN:STANDARD
TZNAME:CET
DTSTART:20231029T030000
TZOFFSETFROM:+0200
TZOFFSETTO:+0100
RDATE:20241027T030000
END:STANDARD
BEGIN:DAYLIGHT
TZNAME:CEST
DTSTART:20230326T020000
TZOFFSETFROM:+0100
TZOFFSETTO:+0200
RDATE:20240331T020000
RDATE:20250330T020000
END:DAYLIGHT
END:VTIMEZONE
BEGIN:VEVENT
UID:bda1c6b0-de58-4264-993c-06f6788a6342
DTSTAMP:20260424T174359Z
CATEGORIES:DGUF-CIfA-Vorträge
CLASS:PUBLIC
DESCRIPTION;ALTREP="CID:<FFFF__=0ABBE548DFE235B58f9e8a93d@coffeebean.com>":
 Achtung: Termin wg. Krankheit verschoben !\nVortragende: Sarah Wolff M.A. 
 (ADW Archäologische Dienstleistungen Wolff\, Inhaberin)
DTSTART:20231205T171500Z
DTEND:20231205T181500Z
GEO:00;0
LOCATION:
ORGANIZER:
SEQUENCE:1
SUMMARY:Worauf achte ich als Arbeitgeber bei Bewerbungen?
TRANSP:OPAQUE
URL:https://www.dguf.de/component/icagenda/33-worauf-achte-ich-als-arbeitge
 ber-bei-bewerbungen-2
END:VEVENT
END:VCALENDAR
