BEGIN:VCALENDAR
VERSION:2.0
PRODID:-//Deutsche Gesellschaft für Ur- und Frühgeschichte//NONSGML kigkons
 ult.se iCalcreator 2.30.10//
CALSCALE:GREGORIAN
METHOD:PUBLISH
UID:fc822a73-6faf-4841-b8af-41236a20f00e
X-WR-CALNAME:iCagenda
X-WR-CALDESC:Event Management Extension for Joomla!
X-WR-RELCALID:3E26604A-50F4-4449-8B3E-E4F4932D05B5
X-WR-TIMEZONE:Europe/Berlin
BEGIN:VTIMEZONE
TZID:Europe/Berlin
BEGIN:STANDARD
TZNAME:CET
DTSTART:20231029T030000
TZOFFSETFROM:+0200
TZOFFSETTO:+0100
RDATE:20241027T030000
END:STANDARD
BEGIN:DAYLIGHT
TZNAME:CEST
DTSTART:20230326T020000
TZOFFSETFROM:+0100
TZOFFSETTO:+0200
RDATE:20240331T020000
RDATE:20250330T020000
END:DAYLIGHT
END:VTIMEZONE
BEGIN:VEVENT
UID:ac1845f1-1629-466f-b1db-d2f787ded82e
DTSTAMP:20260424T160632Z
CATEGORIES:DGUF-CIfA-Vorträge
CLASS:PUBLIC
DESCRIPTION;ALTREP="CID:<FFFF__=0ABBE548DFE235B58f9e8a93d@coffeebean.com>":
 Vortragende: Dr. des. Michaela Schauer ACIfA (Präsidentin CIfA D ).  --  W
 ir schreiben das Jahr 2023 n.Chr. Ganz Deutschland weiss über die schreckl
 ichen Arbeitsbedigungen und üblen Berufsaussichten in der Archäologie. Den
 noch ist der Einsatz für die eigene\, berufliche Zukunft zum Erliegen geko
 mmen. Völlig? Nein! Eine wackere Gemeinschaft\, CIfA Deutschland\, setzt s
 ich weiterhin unermüdlich für die Verbesserung der Löhne und der Arbeitsbe
 dingungen in der Archäologie ein... Wie - das könnt ihr hier in der Online
 -Veranstaltung 'Gemeinsam für eine professionelle Archäologie: Das CIfA\, 
 seine Ziele\, und warum es einen Berufsverband von Archäolog:innen für Arc
 häolog:innen braucht' erfahren.
DTSTART:20231114T171500Z
DTEND:20231114T181500Z
GEO:00;0
LOCATION:
ORGANIZER:
SEQUENCE:1
SUMMARY:Gemeinsam für eine professionelle Archäologie: Das CIfA\, seine Zie
 le\, und warum es einen Berufsverband von Archäolog:innen für Archäolog:in
 nen braucht
TRANSP:OPAQUE
URL:https://www.dguf.de/component/icagenda/32-gemeinsam-fuer-eine-professio
 nelle-archaeologie-das-cifa-seine-ziele-und-warum-es-einen-berufsverband-v
 on-archaeolog-innen-fuer-archaeolog-innen-braucht
END:VEVENT
END:VCALENDAR
