BEGIN:VCALENDAR
VERSION:2.0
PRODID:-//Deutsche Gesellschaft für Ur- und Frühgeschichte//NONSGML kigkons
 ult.se iCalcreator 2.30.10//
CALSCALE:GREGORIAN
METHOD:PUBLISH
UID:3c66c454-804e-48b4-af49-ce91fe4fc620
X-WR-CALNAME:iCagenda
X-WR-CALDESC:Event Management Extension for Joomla!
X-WR-RELCALID:3E26604A-50F4-4449-8B3E-E4F4932D05B5
X-WR-TIMEZONE:Europe/Berlin
BEGIN:VTIMEZONE
TZID:Europe/Berlin
BEGIN:STANDARD
TZNAME:CET
DTSTART:20221030T030000
TZOFFSETFROM:+0200
TZOFFSETTO:+0100
RDATE:20231029T030000
RDATE:20241027T030000
END:STANDARD
BEGIN:DAYLIGHT
TZNAME:CEST
DTSTART:20230326T020000
TZOFFSETFROM:+0100
TZOFFSETTO:+0200
RDATE:20240331T020000
END:DAYLIGHT
END:VTIMEZONE
BEGIN:VEVENT
UID:4430b247-ee11-4822-a327-e6c0aa65929a
DTSTAMP:20260424T145312Z
CATEGORIES:DGUF-CIfA-Vorträge
CLASS:PUBLIC
DESCRIPTION;ALTREP="CID:<FFFF__=0ABBE548DFE235B58f9e8a93d@coffeebean.com>":
 Anhand des DGUF-Projekts EvaBA 'Evaluation Beruf Archäologie' und der Moni
 toring-Reporte privatwirtschaftliche Archäologie 2019-2022 wird der aktuel
 le Stand und die Entwicklung der Gehälter im Berufsfeld UFG &amp\; AMANZ b
 eleuchtet. Wie stehen die Chancen\, den aktuell noch unbefriedigenden Stan
 d in der Privatwirtschaft nachhaltig zu verbessern?
DTSTART:20230620T161500Z
DTEND:20230620T173000Z
GEO:00;0
LOCATION:
ORGANIZER:
SEQUENCE:1
SUMMARY:Die Entwicklung der Gehälter in der Archäologie 2019 - 2023
TRANSP:OPAQUE
URL:https://www.dguf.de/component/icagenda/30-die-entwicklung-der-gehaelter
 -in-der-archaeologie-2019-2023
END:VEVENT
END:VCALENDAR
