BEGIN:VCALENDAR
VERSION:2.0
PRODID:-//Deutsche Gesellschaft für Ur- und Frühgeschichte//NONSGML kigkons
 ult.se iCalcreator 2.30.10//
CALSCALE:GREGORIAN
METHOD:PUBLISH
UID:dd0cd44b-9d43-4cff-884d-fb235758a81b
X-WR-CALNAME:iCagenda
X-WR-CALDESC:Event Management Extension for Joomla!
X-WR-RELCALID:3E26604A-50F4-4449-8B3E-E4F4932D05B5
X-WR-TIMEZONE:Europe/Berlin
BEGIN:VTIMEZONE
TZID:Europe/Berlin
BEGIN:STANDARD
TZNAME:CET
DTSTART:20221030T030000
TZOFFSETFROM:+0200
TZOFFSETTO:+0100
RDATE:20231029T030000
RDATE:20241027T030000
END:STANDARD
BEGIN:DAYLIGHT
TZNAME:CEST
DTSTART:20230326T020000
TZOFFSETFROM:+0100
TZOFFSETTO:+0200
RDATE:20240331T020000
END:DAYLIGHT
END:VTIMEZONE
BEGIN:VEVENT
UID:5bc40ef6-3160-455e-9964-f729d8d50e9c
DTSTAMP:20260424T162506Z
CATEGORIES:DGUF-CIfA-Vorträge
CLASS:PUBLIC
DESCRIPTION;ALTREP="CID:<FFFF__=0ABBE548DFE235B58f9e8a93d@coffeebean.com>":
 '2023: 1 Absolvent = 2 offene Stellen!' Der Vortrag begründet diese ungewö
 hnliche Aussage und erklärt\, was das für junge Archäolog:innen\, aber auc
 h Ämter und Firmen bedeutet. Er beruht auf den Ergebnissen der DGUF-Umfrag
 e zu den Studierenden- und Absolventenzahlen 2022 im Fach UFG &amp\; AMANZ
 \, die in Bezug gesetzt werden zu aktuellen Informationen über den Arbeits
 markt.
DTSTART:20230606T161500Z
DTEND:20230606T173000Z
GEO:00;0
LOCATION:
ORGANIZER:
SEQUENCE:1
SUMMARY:Arbeitsmarkt und Absolventenzahlen UFG & AMANZ 2022
TRANSP:OPAQUE
URL:https://www.dguf.de/component/icagenda/29-arbeitsmarkt-und-absolventenz
 ahlen-ufg-amanz-2022
END:VEVENT
END:VCALENDAR
