BEGIN:VCALENDAR
VERSION:2.0
PRODID:-//Deutsche Gesellschaft für Ur- und Frühgeschichte//NONSGML kigkons
 ult.se iCalcreator 2.30.10//
CALSCALE:GREGORIAN
METHOD:PUBLISH
UID:4d7bf6b4-85c4-417d-8cc1-20a8be08d16c
X-WR-CALNAME:iCagenda
X-WR-CALDESC:Event Management Extension for Joomla!
X-WR-RELCALID:3E26604A-50F4-4449-8B3E-E4F4932D05B5
X-WR-TIMEZONE:Europe/Berlin
BEGIN:VTIMEZONE
TZID:Europe/Berlin
BEGIN:STANDARD
TZNAME:CET
DTSTART:20221030T030000
TZOFFSETFROM:+0200
TZOFFSETTO:+0100
RDATE:20231029T030000
RDATE:20241027T030000
END:STANDARD
BEGIN:DAYLIGHT
TZNAME:CEST
DTSTART:20230326T020000
TZOFFSETFROM:+0100
TZOFFSETTO:+0200
RDATE:20240331T020000
END:DAYLIGHT
END:VTIMEZONE
BEGIN:VEVENT
UID:2d870946-3a3a-408a-bb79-41e378d0c644
DTSTAMP:20260424T162334Z
CATEGORIES:Tagungen
CLASS:PUBLIC
DESCRIPTION:
DTSTART:20230518T113000Z
DTEND:20230518T155800Z
GEO:00;0
LOCATION:
ORGANIZER:
SEQUENCE:1
SUMMARY:DGUF-MV 2023 und Studienpreis
TRANSP:OPAQUE
URL:https://www.dguf.de/component/icagenda/28-dguf-mv-2023-und-studienpreis
END:VEVENT
END:VCALENDAR
