BEGIN:VCALENDAR
VERSION:2.0
PRODID:-//Deutsche Gesellschaft für Ur- und Frühgeschichte//NONSGML kigkons
 ult.se iCalcreator 2.30.10//
CALSCALE:GREGORIAN
METHOD:PUBLISH
UID:f3a2049f-9a10-49be-b516-63df39f98122
X-WR-CALNAME:iCagenda
X-WR-CALDESC:Event Management Extension for Joomla!
X-WR-RELCALID:3E26604A-50F4-4449-8B3E-E4F4932D05B5
X-WR-TIMEZONE:Europe/Berlin
BEGIN:VTIMEZONE
TZID:Europe/Berlin
BEGIN:STANDARD
TZNAME:CET
DTSTART:20221030T030000
TZOFFSETFROM:+0200
TZOFFSETTO:+0100
RDATE:20231029T030000
END:STANDARD
BEGIN:DAYLIGHT
TZNAME:CEST
DTSTART:20230326T020000
TZOFFSETFROM:+0100
TZOFFSETTO:+0200
RDATE:20240331T020000
END:DAYLIGHT
END:VTIMEZONE
BEGIN:VEVENT
UID:5233a0d5-18ea-4123-bf16-9cffadde8aac
DTSTAMP:20260424T173835Z
CATEGORIES:DGUF-CIfA-Vorträge
CLASS:PUBLIC
DESCRIPTION;ALTREP="CID:<FFFF__=0ABBE548DFE235B58f9e8a93d@coffeebean.com>":
 Die Veranstaltung wird durch einige Impulsvorträge eröffnet. Nach der Eröf
 fnung durch DGUF/CIfA D sprechen u. a. Dr. Patrick Schollmeyer (DVA)\, Dr.
  Doris Gutsmiedl-Schümann (AktArcha\, FemArc) und Dr. Eva Rosenstock (Uni 
 Bonn). Kern der Veranstaltung ist jedoch der Austausch und die Debatte unt
 er allen Teilnehmerinnen und Teilnehmern. Alle Angemeldeten sich herzlich 
 eingeladen\, sich aktiv zu beteiligen!\nDie Veranstaltung wird nicht aufge
 zeichnet/konserviert.
DTSTART:20230411T163000Z
DTEND:20230411T180000Z
GEO:00;0
LOCATION:
ORGANIZER:
SEQUENCE:1
SUMMARY:Diskussionsrunde Archäologie\, WissZeitVG und #IchBinHanna
TRANSP:OPAQUE
URL:https://www.dguf.de/component/icagenda/27-diskussionsrunde-archaeologie
 -wisszeitvg-und-ichbinhanna
END:VEVENT
END:VCALENDAR
