BEGIN:VCALENDAR
VERSION:2.0
PRODID:-//Deutsche Gesellschaft für Ur- und Frühgeschichte//NONSGML kigkons
 ult.se iCalcreator 2.30.10//
CALSCALE:GREGORIAN
METHOD:PUBLISH
UID:2210d04a-5b8d-4857-960d-4d4adf3cc78e
X-WR-CALNAME:iCagenda
X-WR-CALDESC:Event Management Extension for Joomla!
X-WR-RELCALID:3E26604A-50F4-4449-8B3E-E4F4932D05B5
X-WR-TIMEZONE:Europe/Berlin
BEGIN:VTIMEZONE
TZID:Europe/Berlin
BEGIN:STANDARD
TZNAME:CET
DTSTART:20221030T030000
TZOFFSETFROM:+0200
TZOFFSETTO:+0100
RDATE:20231029T030000
RDATE:20241027T030000
END:STANDARD
BEGIN:DAYLIGHT
TZNAME:CEST
DTSTART:20230326T020000
TZOFFSETFROM:+0100
TZOFFSETTO:+0200
RDATE:20240331T020000
END:DAYLIGHT
END:VTIMEZONE
BEGIN:VEVENT
UID:9405534e-b65f-41fd-9a30-7474add08b13
DTSTAMP:20260424T161248Z
CATEGORIES:Tagungen
CLASS:PUBLIC
DESCRIPTION;ALTREP="CID:<FFFF__=0ABBE548DFE235B58f9e8a93d@coffeebean.com>":
 Frankfurt /M.\, 18.-19. Mai 2023\, in Zusammenarbeit mit dem Archäologisch
 en Museum Frankfurt /M.\nImmer wieder melden Lehrende\, Arbeitgeber oder I
 nteressenvertreter Wünsche und Forderungen an die Curricula der Universitä
 ten an: mehr Praxis\, mehr Theorie\, mehr Archäologie der Neuzeit\, mehr I
 T-Skills\, Grundlagenkenntnisse des Denkmalrechts usw. usf. Häufig erschei
 nen diese Forderungen - für sich genommen - als sehr plausibel und sind es
  vielfach auch. Warum finden diese Desiderate also nicht einfach Eingang i
 n ein UFG-Kern-Curriculum?\nTagungswebsite dort.
DTSTART:20230519T120000Z
DTEND:20230519T160000Z
GEO:00;0
LOCATION:
ORGANIZER:
SEQUENCE:1
SUMMARY:DGUF-Tagung 2023
TRANSP:OPAQUE
URL:https://www.dguf.de/component/icagenda/26-dguf-tagung-2023
END:VEVENT
END:VCALENDAR
