BEGIN:VCALENDAR
VERSION:2.0
PRODID:-//Deutsche Gesellschaft für Ur- und Frühgeschichte//NONSGML kigkons
 ult.se iCalcreator 2.30.10//
CALSCALE:GREGORIAN
METHOD:PUBLISH
UID:af8890aa-1f50-4e80-8543-efe2888e4bef
X-WR-CALNAME:iCagenda
X-WR-CALDESC:Event Management Extension for Joomla!
X-WR-RELCALID:3E26604A-50F4-4449-8B3E-E4F4932D05B5
X-WR-TIMEZONE:Europe/Berlin
BEGIN:VTIMEZONE
TZID:Europe/Berlin
BEGIN:STANDARD
TZNAME:CET
DTSTART:20221030T030000
TZOFFSETFROM:+0200
TZOFFSETTO:+0100
RDATE:20231029T030000
END:STANDARD
BEGIN:DAYLIGHT
TZNAME:CEST
DTSTART:20220327T020000
TZOFFSETFROM:+0100
TZOFFSETTO:+0200
RDATE:20230326T020000
RDATE:20240331T020000
END:DAYLIGHT
END:VTIMEZONE
BEGIN:VEVENT
UID:15c29e1c-c8d0-45a8-9136-4474c4d92b71
DTSTAMP:20260424T190601Z
CATEGORIES:DGUF-CIfA-Vorträge
CLASS:PUBLIC
DESCRIPTION;ALTREP="CID:<FFFF__=0ABBE548DFE235B58f9e8a93d@coffeebean.com>":
 Michaela Schauer (Präsidentin CIfA Deutschland)\, Anna Anzenberger (Delegi
 erte AK Arbeitgeber) &amp\; Hendrik Hofmann (Delegierter AK Arbeitnehmer)
 \nMan redet nicht über das\, was man verdient\, oder? Stimmt nicht - wir r
 eden drüber! Wir verhandeln drüber! Weil es viel zu wenig ist\, was in der
  Grabungsarchäologie gezahlt wird. Weil unsere Arbeit einen angemessenen P
 reis haben muss und darf. Weil sich dieser 'Preis' nicht nur im Gehalt aus
 drückt\, sondern beispielsweise auch in Lohnnebenleistungen. Viele Debatte
 n rund um das Thema Geld finden aktuell - moderiert von CIfA Deutschland -
  im Rahmen des Aushandelns von ethisch vertretbaren Lohnuntergrenzen statt
 . Mit unserem Diskussionbeitrag möchten wir das ebenso wichtige wie unbequ
 eme Thema Bezahlung in den Vordergrund rücken und uns mit den Teilnehmern 
 austauschen. Auf dem Podium sitzen Michaela Schauer\, Präsidentin von CIfA
  Deutschland\, sowie Anna Anzenberger und Hendrik Hofmann\, die in der jün
 gsten Verhandlungsrunde über die CIfA-Lohnuntergrenzen die Verhandlungsfüh
 rer für die Arbeitgeber- resp. Arbeitnehmerseite waren.
DTSTART:20230207T171500Z
DTEND:20230207T183000Z
GEO:00;0
LOCATION:
ORGANIZER:
SEQUENCE:1
SUMMARY:Lass uns übers Geld reden! - Gehälter in der Grabungsarchäologie
TRANSP:OPAQUE
URL:https://www.dguf.de/component/icagenda/25-lass-uns-uebers-geld-reden-ge
 haelter-in-der-grabungsarchaeologie
END:VEVENT
END:VCALENDAR
