BEGIN:VCALENDAR
VERSION:2.0
PRODID:-//Deutsche Gesellschaft für Ur- und Frühgeschichte//NONSGML kigkons
 ult.se iCalcreator 2.30.10//
CALSCALE:GREGORIAN
METHOD:PUBLISH
UID:c7ab230f-2ce0-4b09-a56c-d455f2129849
X-WR-CALNAME:iCagenda
X-WR-CALDESC:Event Management Extension for Joomla!
X-WR-RELCALID:3E26604A-50F4-4449-8B3E-E4F4932D05B5
X-WR-TIMEZONE:Europe/Berlin
BEGIN:VTIMEZONE
TZID:Europe/Berlin
BEGIN:STANDARD
TZNAME:CET
DTSTART:20221030T030000
TZOFFSETFROM:+0200
TZOFFSETTO:+0100
RDATE:20231029T030000
END:STANDARD
BEGIN:DAYLIGHT
TZNAME:CEST
DTSTART:20220327T020000
TZOFFSETFROM:+0100
TZOFFSETTO:+0200
RDATE:20230326T020000
RDATE:20240331T020000
END:DAYLIGHT
END:VTIMEZONE
BEGIN:VEVENT
UID:8936edd2-9327-4c4c-8313-1378b0fa9e10
DTSTAMP:20260424T174356Z
CATEGORIES:DGUF-CIfA-Vorträge
CLASS:PUBLIC
DESCRIPTION;ALTREP="CID:<FFFF__=0ABBE548DFE235B58f9e8a93d@coffeebean.com>":
 Die Vortragenden berichten über die erste Software-Entwicklung unter Lockd
 own-Bedingungen und über die Herausforderungen\, die sich aus den untersch
 iedlichen Vorgaben für die Datenermittlung\, Datenaufbereitung und -ausgab
 e ergeben und vor allem für die Datenabgabe. Sie erläutern ihr Konzept\, s
 owohl Konsistenz der Daten zu erreichen als auch die unterschiedlichen Erw
 artungen von Denkmalfachämtern aus einer einheitlichen Datenbasis heraus z
 u erfüllen. Am Schluß steht eine kurze praktische Vorführung. 
DTSTART:20230117T171500Z
DTEND:20230117T183000Z
GEO:00;0
LOCATION:
ORGANIZER:
SEQUENCE:1
SUMMARY:'SAPIKON' als neues Konzept für konsistente Daten: über regionale D
 okumentationstraditionen und den Generationswechsel in der feldarchäologis
 chen Datenverarbeitung.
TRANSP:OPAQUE
URL:https://www.dguf.de/component/icagenda/24-sapikon-als-neues-konzept-fue
 r-konsistente-daten-ueber-regionale-dokumentationstraditionen-und-den-gene
 rationswechsel-in-der-feldarchaeologischen-datenverarbeitung
END:VEVENT
END:VCALENDAR
