BEGIN:VCALENDAR
VERSION:2.0
PRODID:-//Deutsche Gesellschaft für Ur- und Frühgeschichte//NONSGML kigkons
 ult.se iCalcreator 2.30.10//
CALSCALE:GREGORIAN
METHOD:PUBLISH
UID:e714ebe8-d677-49ab-baf0-db5db4475d32
X-WR-CALNAME:iCagenda
X-WR-CALDESC:Event Management Extension for Joomla!
X-WR-RELCALID:3E26604A-50F4-4449-8B3E-E4F4932D05B5
X-WR-TIMEZONE:Europe/Berlin
BEGIN:VTIMEZONE
TZID:Europe/Berlin
BEGIN:STANDARD
TZNAME:CET
DTSTART:20221030T030000
TZOFFSETFROM:+0200
TZOFFSETTO:+0100
RDATE:20231029T030000
END:STANDARD
BEGIN:DAYLIGHT
TZNAME:CEST
DTSTART:20220327T020000
TZOFFSETFROM:+0100
TZOFFSETTO:+0200
RDATE:20230326T020000
RDATE:20240331T020000
END:DAYLIGHT
END:VTIMEZONE
BEGIN:VEVENT
UID:5a3fe08d-c493-4b16-9f2d-c0d89b477236
DTSTAMP:20260424T190605Z
CATEGORIES:Tagungen
CLASS:PUBLIC
DESCRIPTION;ALTREP="CID:<FFFF__=0ABBE548DFE235B58f9e8a93d@coffeebean.com>":
 Welche spannenden archäologischen Ausgrabungen\, Entdeckungen und Entwickl
 ungen gab es in Deutschland im Jahr 2022? Darüber berichten Ausgräber\, Fo
 rschende und Fachleute am Samstag\, 25. Februar 2023\, auf unserer virtuel
 len Tagung via 'Zoom'. Sie richtet sich gleichermaßen an Fachkollegen wie 
 an interessierte Bürgerinnen und Bürger – sie alle sind uns ganz herzlich 
 willkommen! Die Teilnahme ist kostenlos\, eine Anmeldung ist erforderlich.
  Das Programm finden Sie dort.
DTSTART:20230225T081500Z
DTEND:20230225T150000Z
GEO:00;0
LOCATION:
ORGANIZER:
SEQUENCE:1
SUMMARY:Das Archäologische Jahr 2022
TRANSP:OPAQUE
URL:https://www.dguf.de/component/icagenda/23-das-archaeologische-jahr-2022
END:VEVENT
END:VCALENDAR
