BEGIN:VCALENDAR
VERSION:2.0
PRODID:-//Deutsche Gesellschaft für Ur- und Frühgeschichte//NONSGML kigkons
 ult.se iCalcreator 2.30.10//
CALSCALE:GREGORIAN
METHOD:PUBLISH
UID:15c4cbaf-041f-4c18-9466-1c9ed75b6b31
X-WR-CALNAME:iCagenda
X-WR-CALDESC:Event Management Extension for Joomla!
X-WR-RELCALID:3E26604A-50F4-4449-8B3E-E4F4932D05B5
X-WR-TIMEZONE:Europe/Berlin
BEGIN:VTIMEZONE
TZID:Europe/Berlin
BEGIN:STANDARD
TZNAME:CET
DTSTART:20221030T030000
TZOFFSETFROM:+0200
TZOFFSETTO:+0100
RDATE:20231029T030000
END:STANDARD
BEGIN:DAYLIGHT
TZNAME:CEST
DTSTART:20220327T020000
TZOFFSETFROM:+0100
TZOFFSETTO:+0200
RDATE:20230326T020000
RDATE:20240331T020000
END:DAYLIGHT
END:VTIMEZONE
BEGIN:VEVENT
UID:a1158fd3-13de-4eaf-83c2-3047aa088049
DTSTAMP:20260424T162803Z
CATEGORIES:DGUF-CIfA-Vorträge
CLASS:PUBLIC
DESCRIPTION;ALTREP="CID:<FFFF__=0ABBE548DFE235B58f9e8a93d@coffeebean.com>":
 Die archäologischen Fächer leben von Drittmittelprojekten\, im Studium hör
 t man es immer wieder: Forschungsprojekt beantragt\, genehmigt\, abgelehnt
 … Viele überlegen\, nach dem Studium bzw. der Promotion einen Antrag auf P
 rojektförderung zu schreiben\, stehen aber vor ersten Hürden: Wie geht das
  eigentlich? Was kann ich wo beantragen? Was braucht ein ausgezeichneter P
 rojektantrag? Was wird gefördert\, was nicht? Was gilt es zeitlich zu beac
 hten? Welchen Einfluss haben Drittmittelprojekte auf meine Karriere (#Ichb
 inHanna)?  \n \nProf. Dr. Natascha Mehler (Universität Tübingen)\, die sel
 bst lange in internationalen Drittmittelprojekten forschte und sich damit 
 finanzierte\, berichtet und steht für Fragen zur Verfügung. 
DTSTART:20221220T171500Z
DTEND:20221220T183000Z
GEO:00;0
LOCATION:
ORGANIZER:
SEQUENCE:1
SUMMARY:Wie funktionieren eigentlich Anträge für Forschungsprojekte?
TRANSP:OPAQUE
URL:https://www.dguf.de/component/icagenda/22-wie-funktionieren-eigentlich-
 antraege-fuer-forschungsprojekte
END:VEVENT
END:VCALENDAR
