BEGIN:VCALENDAR
VERSION:2.0
PRODID:-//Deutsche Gesellschaft für Ur- und Frühgeschichte//NONSGML kigkons
 ult.se iCalcreator 2.30.10//
CALSCALE:GREGORIAN
METHOD:PUBLISH
UID:6997a32b-324c-4162-b098-f847ba205b2f
X-WR-CALNAME:iCagenda
X-WR-CALDESC:Event Management Extension for Joomla!
X-WR-RELCALID:3E26604A-50F4-4449-8B3E-E4F4932D05B5
X-WR-TIMEZONE:Europe/Berlin
BEGIN:VTIMEZONE
TZID:Europe/Berlin
BEGIN:STANDARD
TZNAME:CET
DTSTART:20221030T030000
TZOFFSETFROM:+0200
TZOFFSETTO:+0100
RDATE:20231029T030000
END:STANDARD
BEGIN:DAYLIGHT
TZNAME:CEST
DTSTART:20220327T020000
TZOFFSETFROM:+0100
TZOFFSETTO:+0200
RDATE:20230326T020000
RDATE:20240331T020000
END:DAYLIGHT
END:VTIMEZONE
BEGIN:VEVENT
UID:78c8f248-77c7-4d19-9451-6fa64566070a
DTSTAMP:20260424T145424Z
CATEGORIES:DGUF-CIfA-Vorträge
CLASS:PUBLIC
DESCRIPTION;ALTREP="CID:<FFFF__=0ABBE548DFE235B58f9e8a93d@coffeebean.com>":
 Ass.-Prof. Mag. Dr. Barbara Hausmair (Univ. Innsbruck):\nDer Vortrag entwi
 ckelt einen 'forschungsgeschichtlichen' Blick auf das Thema\, der den Umga
 ng mit NS-Lagern seit Kriegsende und die theoretischen Aspekte der Archäol
 ogie moderner Konflikte beschreibt und analysiert. Auf dieser Basis wird d
 ann die aktuelle 'Lagerarchäologie' kritisch diskutiert: ihre politischen 
 Dimensionen\, ihre bisherigen Schwerpunkte\, ihre Desiderate.
DTSTART:20221122T171500Z
DTEND:20221122T183000Z
GEO:00;0
LOCATION:Online-Vortrag
ORGANIZER:
SEQUENCE:1
SUMMARY:Von der Materialität des Nazi-Terrors zu 'Lagerarchäologie': eine k
 ritische Retrospektive
TRANSP:OPAQUE
URL:https://www.dguf.de/component/icagenda/20-von-der-materialitaet-des-naz
 i-terrors-zu-lagerarchaeologie-eine-kritische-retrospektive
END:VEVENT
END:VCALENDAR
