BEGIN:VCALENDAR
VERSION:2.0
PRODID:-//Deutsche Gesellschaft für Ur- und Frühgeschichte//NONSGML kigkons
 ult.se iCalcreator 2.30.10//
CALSCALE:GREGORIAN
METHOD:PUBLISH
UID:7d1dbe1f-e4e5-417d-9965-0da803686666
X-WR-CALNAME:iCagenda
X-WR-CALDESC:Event Management Extension for Joomla!
X-WR-RELCALID:3E26604A-50F4-4449-8B3E-E4F4932D05B5
X-WR-TIMEZONE:Europe/Berlin
BEGIN:VTIMEZONE
TZID:Europe/Berlin
BEGIN:STANDARD
TZNAME:CET
DTSTART:20221030T030000
TZOFFSETFROM:+0200
TZOFFSETTO:+0100
RDATE:20231029T030000
END:STANDARD
BEGIN:DAYLIGHT
TZNAME:CEST
DTSTART:20220327T020000
TZOFFSETFROM:+0100
TZOFFSETTO:+0200
RDATE:20230326T020000
RDATE:20240331T020000
END:DAYLIGHT
END:VTIMEZONE
BEGIN:VEVENT
UID:1bbe5cd1-9ed3-45af-8cea-a051120b251f
DTSTAMP:20260424T145357Z
CATEGORIES:DGUF-CIfA-Vorträge
CLASS:PUBLIC
DESCRIPTION;ALTREP="CID:<FFFF__=0ABBE548DFE235B58f9e8a93d@coffeebean.com>":
 Was braucht man (und was braucht man nicht) in Sachen Laptop und Software 
 zum Studienstart und für die ersten Semester? Die DGUF hat dazu die 'Softw
 arebox' verfasst - einen Führer zu einer guten Software-Ausstattung für ju
 nge Archäolog:innen. Der Vortrag bietet eine auf das Wichtigste eingedampf
 te Fassung dieser Handreichung und bietet vor allem auch die Gelegenheit z
 um Fragen.\nDie Softwarebox gibt's [dort].
DTSTART:20221108T171500Z
DTEND:20221108T183000Z
GEO:00;0
LOCATION:Online-Vortrag
ORGANIZER:
SEQUENCE:1
SUMMARY:IT-Tips für angehende Archäolog:innen
TRANSP:OPAQUE
URL:https://www.dguf.de/component/icagenda/19-it-tips-fuer-angehende-archae
 olog-innen
END:VEVENT
END:VCALENDAR
