BEGIN:VCALENDAR
VERSION:2.0
PRODID:-//Deutsche Gesellschaft für Ur- und Frühgeschichte//NONSGML kigkons
 ult.se iCalcreator 2.30.10//
CALSCALE:GREGORIAN
METHOD:PUBLISH
UID:795afb03-75d7-45b0-aaf8-ad63e1be1501
X-WR-CALNAME:iCagenda
X-WR-CALDESC:Event Management Extension for Joomla!
X-WR-RELCALID:3E26604A-50F4-4449-8B3E-E4F4932D05B5
X-WR-TIMEZONE:Europe/Berlin
BEGIN:VTIMEZONE
TZID:Europe/Berlin
BEGIN:STANDARD
TZNAME:CET
DTSTART:20211031T030000
TZOFFSETFROM:+0200
TZOFFSETTO:+0100
RDATE:20221030T030000
RDATE:20231029T030000
END:STANDARD
BEGIN:DAYLIGHT
TZNAME:CEST
DTSTART:20220327T020000
TZOFFSETFROM:+0100
TZOFFSETTO:+0200
RDATE:20230326T020000
RDATE:20240331T020000
END:DAYLIGHT
END:VTIMEZONE
BEGIN:VEVENT
UID:c9e47cc3-7560-49ce-855a-7427b49e04db
DTSTAMP:20260424T132326Z
CATEGORIES:DGUF-CIfA-Vorträge
CLASS:PUBLIC
DESCRIPTION;ALTREP="CID:<FFFF__=0ABBE548DFE235B58f9e8a93d@coffeebean.com>":
 Das Semester mit seinen vielen Anforderungen geht los\; die Abgabe des Pro
 jektberichts vom zurückliegenden Halbjahr steht bald an\; Ihre Prof. will 
 kommende Woche über den Stand Ihrer Diss. informiert werden. Aber Sie habe
 n viel Wichtiges noch nicht geschafft\, geraten zusehends in Panik\, verhe
 ddern sich in den Anforderungen. Diane Scherzler\, Archäologin und beim SW
 R Gesundheitsmanagerin\, zeigt Ihnen\, wie Sie Ihre Zeitplanung in den Gri
 ff bekommen\, wie Sie besser priorisieren und wie Sie durch gute Selbstorg
 anisation vermeiden\, begonnene Aufgaben abbrechen zu müssen. Gerne beantw
 ortet und diskutiert die Vortragende am Ende konkrete Fragen. \n 
DTSTART:20221025T161500Z
DTEND:20221025T173000Z
GEO:00;0
LOCATION:Online-Vortrag
ORGANIZER:
SEQUENCE:1
SUMMARY:Kluge Selbstorganisation und gutes Zeitmanagement
TRANSP:OPAQUE
URL:https://www.dguf.de/component/icagenda/18-kluge-selbstorganisation-und-
 gutes-zeitmanagement-2
END:VEVENT
END:VCALENDAR
