BEGIN:VCALENDAR
VERSION:2.0
PRODID:-//Deutsche Gesellschaft für Ur- und Frühgeschichte//NONSGML kigkons
 ult.se iCalcreator 2.30.10//
CALSCALE:GREGORIAN
METHOD:PUBLISH
UID:233e6db5-eee5-499d-a26c-b1dd6344c2cd
X-WR-CALNAME:iCagenda
X-WR-CALDESC:Event Management Extension for Joomla!
X-WR-RELCALID:3E26604A-50F4-4449-8B3E-E4F4932D05B5
X-WR-TIMEZONE:Europe/Berlin
BEGIN:VTIMEZONE
TZID:Europe/Berlin
BEGIN:STANDARD
TZNAME:CET
DTSTART:20211031T030000
TZOFFSETFROM:+0200
TZOFFSETTO:+0100
RDATE:20221030T030000
RDATE:20231029T030000
END:STANDARD
BEGIN:DAYLIGHT
TZNAME:CEST
DTSTART:20220327T020000
TZOFFSETFROM:+0100
TZOFFSETTO:+0200
RDATE:20230326T020000
RDATE:20240331T020000
END:DAYLIGHT
END:VTIMEZONE
BEGIN:VEVENT
UID:73a9fbd8-3147-4d52-9218-a7bc568085f7
DTSTAMP:20260424T133048Z
CATEGORIES:DGUF-CIfA-Vorträge
CLASS:PUBLIC
DESCRIPTION;ALTREP="CID:<FFFF__=0ABBE548DFE235B58f9e8a93d@coffeebean.com>":
 von PD Dr. Frank Siegmund (Univ. Münster\; stellv. DGUF-Vorsitzender) und 
 Michaela Schauer M.A (Präsidentin CIfA Deutschland).\nDie Archäologie in D
 eutschland hat eine staatlich / rechtliche Organisation und eine fachliche
  Selbstorganisiation. Der Vortrag erläutert die grundlegenden Strukturen u
 nd ordnet die Fülle der Institutionen\, Verbände und Vereine\, um 'Einstei
 gern' einen Durchblick zu vermitteln. Anschließend werden DGUF und CIfA De
 utschland kurz vorgestellt. Es bleibt viel Raum für Fragen und Diskussion.
DTSTART:20221011T161500Z
DTEND:20221011T173000Z
GEO:00;0
LOCATION:Online-Vortrag
ORGANIZER:
SEQUENCE:1
SUMMARY:Die Organisation der Archäologie in Deutschland\, die Rollen von DG
 UF und CIfA Deutschland darin\, und wo & wie man sich als junge:r Archäolo
 g:in persönlich einbringen kann.
TRANSP:OPAQUE
URL:https://www.dguf.de/component/icagenda/17-die-organisation-der-archaeol
 ogie-in-deutschland-die-rollen-von-dguf-und-cifa-deutschland-darin-und-wo-
 wie-man-sich-als-junge-r-archaeolog-in-persoenlich-einbringen-kann
END:VEVENT
END:VCALENDAR
