BEGIN:VCALENDAR
VERSION:2.0
PRODID:-//Deutsche Gesellschaft für Ur- und Frühgeschichte//NONSGML kigkons
 ult.se iCalcreator 2.30.10//
CALSCALE:GREGORIAN
METHOD:PUBLISH
UID:aaba626d-bcad-4d76-8b44-d55c33447ff1
X-WR-CALNAME:iCagenda
X-WR-CALDESC:Event Management Extension for Joomla!
X-WR-RELCALID:3E26604A-50F4-4449-8B3E-E4F4932D05B5
X-WR-TIMEZONE:Europe/Berlin
BEGIN:VTIMEZONE
TZID:Europe/Berlin
BEGIN:STANDARD
TZNAME:CET
DTSTART:20211031T030000
TZOFFSETFROM:+0200
TZOFFSETTO:+0100
RDATE:20221030T030000
RDATE:20231029T030000
END:STANDARD
BEGIN:DAYLIGHT
TZNAME:CEST
DTSTART:20220327T020000
TZOFFSETFROM:+0100
TZOFFSETTO:+0200
RDATE:20230326T020000
END:DAYLIGHT
END:VTIMEZONE
BEGIN:VEVENT
UID:86420fda-2d3e-49e2-854c-d0d701a4f9cf
DTSTAMP:20260424T132307Z
CATEGORIES:DGUF-CIfA-Vorträge
CLASS:PUBLIC
DESCRIPTION;ALTREP="CID:<FFFF__=0ABBE548DFE235B58f9e8a93d@coffeebean.com>":
 Vortragende: Katharina Möller MA\, CIfA\nEhrenamtliche Mitarbeit hat in de
 r Archäologie eine lange Tradition\, auch in Deutschland. Im Vergleich zu 
 anderen Ländern\, wie Großbritannien etwa\, ist Bürgerbeteiligung hierzula
 nde zum einen jedoch weit weniger sichtbar und zum anderen in der archäolo
 gischen Forschung auch oft kein Thema. Ein Grund mehr sich damit im Rahmen
  einer Dissertation zu beschäftigen. In diesem Vortrag möchte ich sowohl ü
 ber Bürgerbeteiligung an sich sprechen\, als auch über die gesammelte Erfa
 hrung mit einem nicht ganz alltäglichen Dissertationsthema berichten.
DTSTART:20220712T161500Z
DTEND:20220712T174500Z
GEO:00;0
LOCATION:
ORGANIZER:
SEQUENCE:1
SUMMARY:Archäologie im Ehrenamt
TRANSP:OPAQUE
URL:https://www.dguf.de/component/icagenda/16-archaeologie-im-ehrenamt
END:VEVENT
END:VCALENDAR
