BEGIN:VCALENDAR
VERSION:2.0
PRODID:-//Deutsche Gesellschaft für Ur- und Frühgeschichte//NONSGML kigkons
 ult.se iCalcreator 2.30.10//
CALSCALE:GREGORIAN
METHOD:PUBLISH
UID:524a3d7a-d3df-41c8-a306-63e6cb65af46
X-WR-CALNAME:iCagenda
X-WR-CALDESC:Event Management Extension for Joomla!
X-WR-RELCALID:3E26604A-50F4-4449-8B3E-E4F4932D05B5
X-WR-TIMEZONE:Europe/Berlin
BEGIN:VTIMEZONE
TZID:Europe/Berlin
BEGIN:STANDARD
TZNAME:CET
DTSTART:20211031T030000
TZOFFSETFROM:+0200
TZOFFSETTO:+0100
RDATE:20221030T030000
RDATE:20231029T030000
END:STANDARD
BEGIN:DAYLIGHT
TZNAME:CEST
DTSTART:20220327T020000
TZOFFSETFROM:+0100
TZOFFSETTO:+0200
RDATE:20230326T020000
END:DAYLIGHT
END:VTIMEZONE
BEGIN:VEVENT
UID:7cc6f3b8-640a-41bc-943a-ac325c472c1c
DTSTAMP:20260424T145326Z
CATEGORIES:DGUF-CIfA-Vorträge
CLASS:PUBLIC
DESCRIPTION;ALTREP="CID:<FFFF__=0ABBE548DFE235B58f9e8a93d@coffeebean.com>":
 Vortragender: Dr. Robert Schumann\, Univ. Heidelberg
DTSTART:20220510T161500Z
DTEND:20220510T174500Z
GEO:00;0
LOCATION:
ORGANIZER:
SEQUENCE:1
SUMMARY:Ur- und Frühgeschichte im Nationalsozialismus: Grundlinien\, Nachwi
 rkung und Aufarbeitung
TRANSP:OPAQUE
URL:https://www.dguf.de/component/icagenda/13-zur-aufarbeitung-der-ns-verga
 ngenheit-in-der-archaeologie
END:VEVENT
END:VCALENDAR
