BEGIN:VCALENDAR
VERSION:2.0
PRODID:-//Deutsche Gesellschaft für Ur- und Frühgeschichte//NONSGML kigkons
 ult.se iCalcreator 2.30.10//
CALSCALE:GREGORIAN
METHOD:PUBLISH
UID:6cee7745-0f11-4c65-94ee-b99d42d18148
X-WR-CALNAME:iCagenda
X-WR-CALDESC:Event Management Extension for Joomla!
X-WR-RELCALID:3E26604A-50F4-4449-8B3E-E4F4932D05B5
X-WR-TIMEZONE:Europe/Berlin
BEGIN:VTIMEZONE
TZID:Europe/Berlin
BEGIN:STANDARD
TZNAME:CET
DTSTART:20211031T030000
TZOFFSETFROM:+0200
TZOFFSETTO:+0100
RDATE:20221030T030000
RDATE:20231029T030000
END:STANDARD
BEGIN:DAYLIGHT
TZNAME:CEST
DTSTART:20220327T020000
TZOFFSETFROM:+0100
TZOFFSETTO:+0200
RDATE:20230326T020000
END:DAYLIGHT
END:VTIMEZONE
BEGIN:VEVENT
UID:faced3b0-1a1e-468e-82d0-16ce8e2269e1
DTSTAMP:20260424T145408Z
CATEGORIES:Tagungen
CLASS:PUBLIC
DESCRIPTION;ALTREP="CID:<FFFF__=0ABBE548DFE235B58f9e8a93d@coffeebean.com>":
 Welche spannenden archäologischen Ausgrabungen\, Entdeckungen und Entwickl
 ungen gab es in Deutschland im Jahr 2021? Darüber berichten Ausgräber\, Fo
 rschende und Fachleute am Samstag\, 28. Mai 2022\, auf unserer virtuellen 
 Tagung. Sie richtet sich gleichermaßen an Fachkollegen wie an interessiert
 e Bürgerinnen und Bürger – sie alle sind uns ganz herzlich willkommen! Die
  Teilnahme ist kostenlos\, eine Anmeldung ist erforderlich. Zum Programm. 
 [dort].
DTSTART:20220528T070000Z
DTEND:20220528T160000Z
GEO:00;0
LOCATION:
ORGANIZER:
SEQUENCE:1
SUMMARY:Das archäologische Jahr 2021
TRANSP:OPAQUE
URL:https://www.dguf.de/component/icagenda/12-dguf-cifa-online-veranstaltun
 g
END:VEVENT
END:VCALENDAR
