BEGIN:VCALENDAR
VERSION:2.0
PRODID:-//Deutsche Gesellschaft für Ur- und Frühgeschichte//NONSGML kigkons
 ult.se iCalcreator 2.30.10//
CALSCALE:GREGORIAN
METHOD:PUBLISH
UID:f43016d7-19f6-4c56-a52b-62aed84e9d31
X-WR-CALNAME:iCagenda
X-WR-CALDESC:Event Management Extension for Joomla!
X-WR-RELCALID:3E26604A-50F4-4449-8B3E-E4F4932D05B5
X-WR-TIMEZONE:Europe/Berlin
BEGIN:VTIMEZONE
TZID:Europe/Berlin
BEGIN:STANDARD
TZNAME:CET
DTSTART:20211031T030000
TZOFFSETFROM:+0200
TZOFFSETTO:+0100
RDATE:20221030T030000
RDATE:20231029T030000
END:STANDARD
BEGIN:DAYLIGHT
TZNAME:CEST
DTSTART:20220327T020000
TZOFFSETFROM:+0100
TZOFFSETTO:+0200
RDATE:20230326T020000
END:DAYLIGHT
END:VTIMEZONE
BEGIN:VEVENT
UID:2149785f-7780-4ebb-8e80-daa626cf062c
DTSTAMP:20260424T132308Z
CATEGORIES:Tagungen
CLASS:PUBLIC
DESCRIPTION;ALTREP="CID:<FFFF__=0ABBE548DFE235B58f9e8a93d@coffeebean.com>":
 Alle weiteren Informationen finden Sie auf der Tagungswebsite von CIfA Deu
 tschland\, dort.
DTSTART:20220617T070000Z
DTEND:20220617T160000Z
GEO:00;0
LOCATION:
ORGANIZER:
SEQUENCE:1
SUMMARY:Jahrestagung 2022 CIfA Deutschland
TRANSP:OPAQUE
URL:https://www.dguf.de/component/icagenda/11-jahrestagung-2022-cifa-deutsc
 hland
END:VEVENT
END:VCALENDAR
