BEGIN:VCALENDAR
VERSION:2.0
PRODID:-//Deutsche Gesellschaft für Ur- und Frühgeschichte//NONSGML kigkons
 ult.se iCalcreator 2.30.10//
CALSCALE:GREGORIAN
METHOD:PUBLISH
UID:9181fbeb-fb19-4a42-b1b9-e826f1b890a5
X-WR-CALNAME:iCagenda
X-WR-CALDESC:Event Management Extension for Joomla!
X-WR-RELCALID:3E26604A-50F4-4449-8B3E-E4F4932D05B5
X-WR-TIMEZONE:Europe/Berlin
BEGIN:VTIMEZONE
TZID:Europe/Berlin
BEGIN:STANDARD
TZNAME:CET
DTSTART:20211031T030000
TZOFFSETFROM:+0200
TZOFFSETTO:+0100
RDATE:20221030T030000
RDATE:20231029T030000
END:STANDARD
BEGIN:DAYLIGHT
TZNAME:CEST
DTSTART:20220327T020000
TZOFFSETFROM:+0100
TZOFFSETTO:+0200
RDATE:20230326T020000
END:DAYLIGHT
END:VTIMEZONE
BEGIN:VEVENT
UID:e1730a31-4534-4ec1-aa84-4105e094ba4d
DTSTAMP:20260424T132732Z
CATEGORIES:Tagungen
CLASS:PUBLIC
DESCRIPTION;ALTREP="CID:<FFFF__=0ABBE548DFE235B58f9e8a93d@coffeebean.com>":
 Nach der DGUF-Tagung am 16.6. und den Tagungen von CIfA und dArV am 17.6. 
 findet am Samstag am gleichen Ort eine von CIfA Deutschland und DGUF gemei
 nsam ausgerichtete Archäologie-Messe statt: 18.6.2021\, Frankfurt /M. (IG-
 Farben-Haus) mit Ständen u.a. von Grabungsfirmen\, Dienstleistern\, NFDI\,
  DGUF\, CIfA\, ... Unternehmen oder Institutionen\, die sich gerne mit ein
 em Messestand präsentieren wollen\, schreiben an vorstand@dguf.de\nWeitere
  Informationen auf der Website von CIfA Deutschland\, dort.
DTSTART:20220617T220000Z
DTEND:20220617T220000Z
GEO:00;0
LOCATION:Frankfurt a.M.
ORGANIZER;CN=:anmeldung@dguf.de
SEQUENCE:1
SUMMARY:Archäologie-Messe
TRANSP:OPAQUE
URL:https://www.dguf.de/component/icagenda/10-faire-daten-und-digitale-infr
 astrukturen-fuer-die-archaeologie-2/2022-06-18-00-00
END:VEVENT
END:VCALENDAR
